BEGIN:VCALENDAR
VERSION:2.0
PRODID:icalendar-ruby
CALSCALE:GREGORIAN
METHOD:PUBLISH
BEGIN:VTIMEZONE
TZID:Australia/Perth
BEGIN:STANDARD
DTSTART:20090329T020000
TZOFFSETFROM:+0900
TZOFFSETTO:+0800
TZNAME:AWST
END:STANDARD
END:VTIMEZONE
BEGIN:VEVENT
DTSTAMP:20260420T053700Z
UID:inspection_3005005
DTSTART;TZID=Australia/Perth:20260422T163000
DTEND;TZID=Australia/Perth:20260422T164500
CLASS:PUBLIC
CREATED:20260420T112749
DESCRIPTION: 
LAST-MODIFIED:20260420T112749
LOCATION:32 Solander Road\, HILLARYS WA 6025\, Australia
SUMMARY:32 Solander Road\,  Inspection
URL;VALUE=URI:http://www.sclasspg.com.au/
END:VEVENT
END:VCALENDAR
